BEGIN:VCALENDAR
VERSION:2.0
PRODID:-//Falkor//Falkor Events//EN
CALSCALE:GREGORIAN
METHOD:PUBLISH
BEGIN:VEVENT
DTSTART:20260510T090000Z
DTEND:20260510T150000Z
SUMMARY:Rose Bowl Flea Market — Pasadena May 2026
DESCRIPTION:The Rose Bowl Flea Market runs the second Sunday of every month at one of the most recognizable venues in Southern California — 2\,500 vendors spread across the Rose Bowl grounds with vintage fashion\, furniture\, vinyl\, art\, and the one-of-a-kind finds that don't exist on Depop or eBay. The May edition is peak browsing season: the winter layers packed away\, the summer wardrobe decisions still open\, and the Saturday night haul still sitting on the floor waiting for a second look. General admission at 9am. Early VIP entry at 5am for serious hunters.
LOCATION:Rose Bowl Stadium\, 1001 Rose Bowl Dr\, Pasadena\, CA 91103
URL:https://www.falkorevents.com/eventcal/event/4793/details/
UID:event-4793@falkorevents.com
END:VEVENT
END:VCALENDAR