BEGIN:VCALENDAR
VERSION:2.0
PRODID:-//Falkor//Falkor Events//EN
CALSCALE:GREGORIAN
METHOD:PUBLISH
BEGIN:VEVENT
DTSTART:20260614T090000Z
DTEND:20260614T150000Z
SUMMARY:Rose Bowl Flea Market — Pasadena June 2026
DESCRIPTION:The second Sunday of June at the Rose Bowl — 2\,500 vendors\, world's largest flea market\, the kind of morning that turns into an afternoon because you kept finding one more thing worth looking at. Summer vintage: the denim jackets\, the concert tees\, the vintage sportswear that turns a weekend in Pasadena into the best fashion decision of the season. General admission $12. Early VIP from 5am.
LOCATION:Rose Bowl Stadium\, 1001 Rose Bowl Dr\, Pasadena\, CA 91103
URL:https://www.falkorevents.com/eventcal/event/4794/details/
UID:event-4794@falkorevents.com
END:VEVENT
END:VCALENDAR