BEGIN:VCALENDAR
VERSION:2.0
PRODID:-//Falkor//Falkor Events//EN
CALSCALE:GREGORIAN
METHOD:PUBLISH
BEGIN:VEVENT
DTSTART:20260712T090000Z
DTEND:20260712T150000Z
SUMMARY:Rose Bowl Flea Market — Pasadena July 2026
DESCRIPTION:July at the Rose Bowl Flea Market — the summer heat brings the early birds out before 7am and rewards the hunters who get there before the crowds fill in. 2\,500 vendors across the Rose Bowl grounds: vintage fashion\, records\, ceramics\, film photography gear\, and the mid-century furniture that fits perfectly into apartments that don't technically have room for it. The second Sunday of July in Pasadena is the most reliable sourcing run in SoCal.
LOCATION:Rose Bowl Stadium\, 1001 Rose Bowl Dr\, Pasadena\, CA 91103
URL:https://www.falkorevents.com/eventcal/event/4795/details/
UID:event-4795@falkorevents.com
END:VEVENT
END:VCALENDAR