BEGIN:VCALENDAR
VERSION:2.0
PRODID:-//Falkor//Falkor Events//EN
CALSCALE:GREGORIAN
METHOD:PUBLISH
BEGIN:VEVENT
DTSTART:20260809T090000Z
DTEND:20260809T150000Z
SUMMARY:Rose Bowl Flea Market — Pasadena August 2026
DESCRIPTION:The Rose Bowl Flea Market on the second Sunday of August — the summer's penultimate edition before fall fashion starts arriving in the vendor rows. 2\,500 sellers\, 90+ degrees\, and the serious collectors who've been tracking specific pieces across multiple months finally putting in the walk to find them. Come early\, bring cash\, leave later than planned.
LOCATION:Rose Bowl Stadium\, 1001 Rose Bowl Dr\, Pasadena\, CA 91103
URL:https://www.falkorevents.com/eventcal/event/4796/details/
UID:event-4796@falkorevents.com
END:VEVENT
END:VCALENDAR