BEGIN:VCALENDAR
VERSION:2.0
PRODID:-//Falkor//Falkor Events//EN
CALSCALE:GREGORIAN
METHOD:PUBLISH
BEGIN:VEVENT
DTSTART:20260913T090000Z
DTEND:20260913T150000Z
SUMMARY:Rose Bowl Flea Market — Pasadena September 2026
DESCRIPTION:September at the Rose Bowl — the first flea market of fall\, when the vendors start turning over their summer stock and the fall pieces begin to surface. The September edition often has the best vintage outerwear of the second half: leather jackets\, flannels\, denim\, the stuff that looked out of place in July and is suddenly exactly right. General admission at 9am. The Rose Bowl in September morning light is its own reward.
LOCATION:Rose Bowl Stadium\, 1001 Rose Bowl Dr\, Pasadena\, CA 91103
URL:https://www.falkorevents.com/eventcal/event/4797/details/
UID:event-4797@falkorevents.com
END:VEVENT
END:VCALENDAR