BEGIN:VCALENDAR
VERSION:2.0
PRODID:-//Falkor//Falkor Events//EN
CALSCALE:GREGORIAN
METHOD:PUBLISH
BEGIN:VEVENT
DTSTART:20261011T090000Z
DTEND:20261011T150000Z
SUMMARY:Rose Bowl Flea Market — Pasadena October 2026
DESCRIPTION:The October Rose Bowl Flea Market brings out the full fall inventory — 2\,500 vendors at the world's largest flea market\, and the autumn costume and vintage fashion overlap that makes October the most interesting month in the Rose Bowl's calendar. Vintage streetwear\, estate sale finds\, collectibles\, and the dealer who shows up every month with something different from the one before. Second Sunday of October. General admission from 9am.
LOCATION:Rose Bowl Stadium\, 1001 Rose Bowl Dr\, Pasadena\, CA 91103
URL:https://www.falkorevents.com/eventcal/event/4798/details/
UID:event-4798@falkorevents.com
END:VEVENT
END:VCALENDAR