BEGIN:VCALENDAR
VERSION:2.0
PRODID:-//Falkor//Falkor Events//EN
CALSCALE:GREGORIAN
METHOD:PUBLISH
BEGIN:VEVENT
DTSTART:20260916T090000Z
DTEND:20260922T235900Z
SUMMARY:Milan Fashion Week SS27
DESCRIPTION:Prada\, Armani\, Versace\, Gucci — Milan in September is where Italian fashion makes its case for another season in a city that has never needed to argue the point. The Spring/Summer 2027 shows run September 16–22 across venues from converted industrial spaces to the Palazzo Reale\; the collections that close the week tend to be the ones that define the season everywhere else. This is fashion at its most authoritative — the city that invented luxury dressing\, doing it again.
LOCATION:Palazzo Reale & various venues\, Milan\, Italy 20121
URL:https://www.falkorevents.com/eventcal/event/4799/details/
UID:event-4799@falkorevents.com
END:VEVENT
END:VCALENDAR