BEGIN:VCALENDAR
VERSION:2.0
PRODID:-//Falkor//Falkor Events//EN
CALSCALE:GREGORIAN
METHOD:PUBLISH
BEGIN:VEVENT
DTSTART:20261012T100000Z
DTEND:20261018T220000Z
SUMMARY:LA Fashion Week Fall 2026
DESCRIPTION:Los Angeles Fashion Week moves the way LA always moves — across neighborhoods\, from Arts District warehouses to Melrose showrooms\, with designers who built their aesthetic here rather than importing it. The Fall 2026 edition runs October 12–18 with runway shows\, presentations\, and after-events spread across a city that has its own voice in fashion and is increasingly insisting on it. SoCal has been dressing the rest of the world for decades. This week is where it shows its work.
LOCATION:Arts District & various venues\, Los Angeles\, CA 90013
URL:https://www.falkorevents.com/eventcal/event/4800/details/
UID:event-4800@falkorevents.com
END:VEVENT
END:VCALENDAR