BEGIN:VCALENDAR
VERSION:2.0
PRODID:-//Falkor//Falkor Events//EN
CALSCALE:GREGORIAN
METHOD:PUBLISH
BEGIN:VEVENT
DTSTART:20261001T180000Z
DTEND:20261005T230000Z
SUMMARY:San Diego Fashion Week 2026
DESCRIPTION:San Diego's fashion scene operates at its own frequency — coastal California aesthetics\, built by designers who chose this city over LA for reasons that show up in the clothes. Fashion Week San Diego runs October 1–5 across downtown venues\, regional designers alongside emerging national names\, in front of crowds that know the difference. The week where the industry feels local again — and local turns out to be exactly enough.
LOCATION:Various venues\, San Diego\, CA 92101
URL:https://www.falkorevents.com/eventcal/event/4801/details/
UID:event-4801@falkorevents.com
END:VEVENT
END:VCALENDAR