BEGIN:VCALENDAR
VERSION:2.0
PRODID:-//Falkor//Falkor Events//EN
CALSCALE:GREGORIAN
METHOD:PUBLISH
BEGIN:VEVENT
DTSTART:20260806T090000Z
DTEND:20260807T180000Z
SUMMARY:Agenda Show Long Beach 2026
DESCRIPTION:Agenda is where streetwear\, surf\, skate\, and action sports brands anchor their calendar — the trade show where the next season's aesthetic gets decided before it hits stores or feeds. Long Beach Convention Center in August: buyers\, brand reps\, and the designers building the vocabulary of board and street culture for 2027. Even if you're not buying\, there's no better place in SoCal to see what's actually coming next.
LOCATION:Long Beach Convention Center\, 300 E Ocean Blvd\, Long Beach\, CA 90831
URL:https://www.falkorevents.com/eventcal/event/4802/details/
UID:event-4802@falkorevents.com
END:VEVENT
END:VCALENDAR