BEGIN:VCALENDAR
VERSION:2.0
PRODID:-//Falkor//Falkor Events//EN
CALSCALE:GREGORIAN
METHOD:PUBLISH
BEGIN:VEVENT
DTSTART:20260523T090000Z
DTEND:20260523T150000Z
SUMMARY:Temecula Valley Vintage Market
DESCRIPTION:Old Town Temecula hosts its monthly vintage and makers market along Front Street — local dealers bringing curated vintage clothing\, jewelry\, ceramics\, plants\, and handmade goods to the brick-lined blocks that are already one of the better walking streets in Inland Southern California. The wine country crowd mixes with the vintage hunters\; the combination makes for a morning that reliably turns into an afternoon. Free to browse. Bring cash for the dealers who don't run Square.
LOCATION:Old Town Temecula\, 28690 Front St\, Temecula\, CA 92590
URL:https://www.falkorevents.com/eventcal/event/4803/details/
UID:event-4803@falkorevents.com
END:VEVENT
END:VCALENDAR