BEGIN:VCALENDAR
VERSION:2.0
PRODID:-//Falkor//Falkor Events//EN
CALSCALE:GREGORIAN
METHOD:PUBLISH
BEGIN:VEVENT
DTSTART:20260515T100000Z
DTEND:20260517T200000Z
SUMMARY:GamerCon San Diego 2026
DESCRIPTION:GamerCon is San Diego's boutique gaming convention — three days at the Tenth Avenue Arts Center with board games across the Challenger Hall\, free-play retro arcade in the Retrocade\, VR gaming in the VRcade\, tabletop RPG sessions in the RPG Den\, miniature wargaming in the War Room\, and the Artemis Bridge Simulator where you and five strangers crew a spaceship together and immediately argue about the weapons. This is not PAX. GamerCon runs at a scale where you can actually sit down at a table\, try something you've never played\, and get taught by someone who loves it. May 15-17. Weekend passes and single-day tickets available. The gaming convention San Diego deserves — small enough to actually enjoy.
LOCATION:Tenth Avenue Arts Center\, 930 10th Ave\, San Diego\, CA 92101
URL:https://www.falkorevents.com/eventcal/event/4804/details/
UID:event-4804@falkorevents.com
END:VEVENT
END:VCALENDAR