BEGIN:VCALENDAR
VERSION:2.0
PRODID:-//Falkor//Falkor Events//EN
CALSCALE:GREGORIAN
METHOD:PUBLISH
BEGIN:VEVENT
DTSTART:20260619T120000Z
DTEND:20260621T210000Z
SUMMARY:NASCAR San Diego Weekend 2026
DESCRIPTION:For the first time in history\, NASCAR comes to San Diego — and the setting alone makes this unlike anything the sport has staged before. Naval Base Coronado hosts a three-day street circuit race weekend honoring the 250th anniversary of the United States Navy. Friday\, June 19: NASCAR Craftsman Truck Series. Saturday\, June 20: NASCAR Xfinity Series. Sunday\, June 21: NASCAR Cup Series — the main event. The track winds through one of the most recognizable military installations in the country\, with the Pacific as the backdrop and the Coronado Bridge visible from the grandstands. San Diego's first-ever major motorsport event\, and NASCAR's most anticipated race weekend of 2026.
LOCATION:Naval Base Coronado\, Coronado\, CA 92135
URL:https://www.falkorevents.com/eventcal/event/4805/details/
UID:event-4805@falkorevents.com
END:VEVENT
END:VCALENDAR