BEGIN:VCALENDAR
VERSION:2.0
PRODID:-//Falkor//Falkor Events//EN
CALSCALE:GREGORIAN
METHOD:PUBLISH
BEGIN:VEVENT
DTSTART:20260523T120000Z
DTEND:20260524T200000Z
SUMMARY:K-EXPO USA 2026 — Free K-Pop Expo at LA Live
DESCRIPTION:K-EXPO USA brings two days of free K-pop programming to the LA Live Event Deck — the outdoor expo running May 23-24 alongside the ticketed K-EXPO concert at Peacock Theater on May 24 featuring Jay Park\, P1Harmony\, and LNGSHOT. The free expo is the Falkor-territory component: Korean pop culture panels\, brand activations\, fan meet-and-greets\, merchandise vendors\, and the specific energy of thousands of K-pop fans in one outdoor space in downtown LA. No ticket required for the expo. For the fan who wants to be in the room even without the concert ticket — this is what happens outside the venue all weekend\, and it counts.
LOCATION:LA Live Event Deck\, 800 W Olympic Blvd\, Los Angeles\, CA 90015
URL:https://www.falkorevents.com/eventcal/event/4806/details/
UID:event-4806@falkorevents.com
END:VEVENT
END:VCALENDAR