BEGIN:VCALENDAR
VERSION:2.0
PRODID:-//Falkor//Falkor Events//EN
CALSCALE:GREGORIAN
METHOD:PUBLISH
BEGIN:VEVENT
DTSTART:20260524T023000Z
DTEND:20260524T050000Z
SUMMARY:LA Galaxy Star Wars Night — vs Houston Dynamo
DESCRIPTION:The LA Galaxy turn Dignity Health Sports Park into a galaxy far\, far away. Star Wars Night features a limited-edition Joseph Paintsil x Star Wars bobblehead with ticket purchase and a full matchday experience against Houston Dynamo. One of the most attended theme nights in MLS — the parking lot fills up early\, the costumes are real\, and the Riot Squad brings the energy regardless of the opponent.
LOCATION:18400 Avalon Blvd\, Carson\, CA 90746
URL:https://www.falkorevents.com/eventcal/event/4808/details/
UID:event-4808@falkorevents.com
END:VEVENT
END:VCALENDAR