BEGIN:VCALENDAR
VERSION:2.0
PRODID:-//Falkor//Falkor Events//EN
CALSCALE:GREGORIAN
METHOD:PUBLISH
BEGIN:VEVENT
DTSTART:20260524T004000Z
DTEND:20260524T043000Z
SUMMARY:Padres Star Wars Weekend — Fireworks Night vs Oakland Athletics
DESCRIPTION:Petco Park goes full hyperdrive for Star Wars Weekend — one of the most popular theme nights of the Padres season. Saturday night features fireworks after the game against the Oakland Athletics. Fans show up in costume\, the ballpark atmosphere is electric\, and it is one of the few games that sells out before mid-season. Come early for the pregame cosplay energy in the Gaslamp.
LOCATION:100 Park Blvd\, San Diego\, CA 92101
URL:https://www.falkorevents.com/eventcal/event/4809/details/
UID:event-4809@falkorevents.com
END:VEVENT
END:VCALENDAR