BEGIN:VCALENDAR
VERSION:2.0
PRODID:-//Falkor//Falkor Events//EN
CALSCALE:GREGORIAN
METHOD:PUBLISH
BEGIN:VEVENT
DTSTART:20260611T190000Z
DTEND:20260720T040000Z
SUMMARY:World Cup Watch Party Series at Fit Social — Belmont Park
DESCRIPTION:San Diego FC and Fox 5 transform Fit Social at Belmont Park into the city's official World Cup headquarters from June 11 through July 19. Every match from group stage through the Final broadcasts on large outdoor screens at this oceanfront venue on the Mission Beach boardwalk. Free and open to all ages. SDFC players and coaches drop in for select matches. Premium zones available for an elevated experience. No better place in San Diego to feel the global energy of the 2026 World Cup.
LOCATION:3125 Ocean Front Walk\, San Diego\, CA 92109
URL:https://www.falkorevents.com/eventcal/event/4810/details/
UID:event-4810@falkorevents.com
END:VEVENT
END:VCALENDAR