BEGIN:VCALENDAR
VERSION:2.0
PRODID:-//Falkor//Falkor Events//EN
CALSCALE:GREGORIAN
METHOD:PUBLISH
BEGIN:VEVENT
DTSTART:20260611T170000Z
DTEND:20260615T040000Z
SUMMARY:FIFA Fan Festival Los Angeles — Memorial Coliseum
DESCRIPTION:The historic Los Angeles Memorial Coliseum hosts the official FIFA Fan Festival for the 2026 World Cup — four days of live match broadcasts\, musical performances\, cultural programming\, interactive fan activations\, and LA-inspired food. Tickets start at $10. Children 12 and under are free. The Festival runs June 11-14 during the opening weekend of the tournament\, with fans from across the world descending on Exposition Park to watch the games together on a massive scale.
LOCATION:3911 S Figueroa St\, Los Angeles\, CA 90037
URL:https://www.falkorevents.com/eventcal/event/4811/details/
UID:event-4811@falkorevents.com
END:VEVENT
END:VCALENDAR