BEGIN:VCALENDAR
VERSION:2.0
PRODID:-//Falkor//Falkor Events//EN
CALSCALE:GREGORIAN
METHOD:PUBLISH
BEGIN:VEVENT
DTSTART:20260613T010000Z
DTEND:20260613T040000Z
SUMMARY:FIFA World Cup 2026: USA vs Paraguay — SoFi Stadium
DESCRIPTION:The United States Men's National Team opens their 2026 FIFA World Cup campaign at SoFi Stadium in Inglewood — one of nine matches LA is hosting in the tournament. USA vs Paraguay is the USMNT's first group stage match on home soil\, in the biggest World Cup in tournament history with 48 teams. SoFi holds 70\,000. It will be full. The energy around Inglewood on this night will be unlike anything the building has seen outside of the Super Bowl.
LOCATION:1011 S Prairie Ave\, Inglewood\, CA 90301
URL:https://www.falkorevents.com/eventcal/event/4812/details/
UID:event-4812@falkorevents.com
END:VEVENT
END:VCALENDAR