BEGIN:VCALENDAR
VERSION:2.0
PRODID:-//Falkor//Falkor Events//EN
CALSCALE:GREGORIAN
METHOD:PUBLISH
BEGIN:VEVENT
DTSTART:20260621T190000Z
DTEND:20260621T220000Z
SUMMARY:FIFA World Cup 2026: Belgium vs Iran — SoFi Stadium
DESCRIPTION:One of six group stage matches at SoFi Stadium during the 2026 FIFA World Cup — Belgium vs Iran\, a matchup between two tactically distinct soccer cultures. Group stage World Cup games at SoFi tip off at noon local time\, making for a full day of pre-match energy in the Inglewood corridor. Tailgate zones\, fan walks\, and the surrounding neighborhood transform for every match day. Tickets through FIFA official channels.
LOCATION:1011 S Prairie Ave\, Inglewood\, CA 90301
URL:https://www.falkorevents.com/eventcal/event/4813/details/
UID:event-4813@falkorevents.com
END:VEVENT
END:VCALENDAR