BEGIN:VCALENDAR
VERSION:2.0
PRODID:-//Falkor//Falkor Events//EN
CALSCALE:GREGORIAN
METHOD:PUBLISH
BEGIN:VEVENT
DTSTART:20260718T023000Z
DTEND:20260718T050000Z
SUMMARY:El Trafico 2026 — LA Galaxy vs LAFC
DESCRIPTION:The biggest rivalry in American soccer. Galaxy vs LAFC at Dignity Health Sports Park — El Trafico 2026 in a summer Friday night slot. The parking lot opens early\, the Riot Squad has been planning for weeks\, and the atmosphere is the closest thing to European derby culture that MLS produces. Two of the best teams in the Western Conference. One city. The stakes are always real because the bragging rights last until the next one.
LOCATION:18400 Avalon Blvd\, Carson\, CA 90746
URL:https://www.falkorevents.com/eventcal/event/4814/details/
UID:event-4814@falkorevents.com
END:VEVENT
END:VCALENDAR