BEGIN:VCALENDAR
VERSION:2.0
PRODID:-//Falkor//Falkor Events//EN
CALSCALE:GREGORIAN
METHOD:PUBLISH
BEGIN:VEVENT
DTSTART:20260908T014000Z
DTEND:20260908T050000Z
SUMMARY:Padres Harry Potter Day — School of Pitchcraft Bobblehead
DESCRIPTION:Harry Potter Day returns to Petco Park on Labor Day with a Joe Musgrove 'School of Pitchcraft' themed bobblehead included with package ticket purchase. The Padres host the Washington Nationals for a 6:40 PM first pitch. Fans come in robes\, the Gaslamp pregame is in full costume mode\, and Petco Park goes full wizarding world for the evening. Bobbleheads are redeemed in Gallagher Square from gates open until one hour after first pitch.
LOCATION:100 Park Blvd\, San Diego\, CA 92101
URL:https://www.falkorevents.com/eventcal/event/4815/details/
UID:event-4815@falkorevents.com
END:VEVENT
END:VCALENDAR