BEGIN:VCALENDAR
VERSION:2.0
PRODID:-//Falkor//Falkor Events//EN
CALSCALE:GREGORIAN
METHOD:PUBLISH
BEGIN:VEVENT
DTSTART:20260616T010000Z
DTEND:20260616T030000Z
SUMMARY:FIFA World Cup 2026 — Group G: Iran vs New Zealand at SoFi Stadium
DESCRIPTION:On June 15\, 2026\, SoFi Stadium in Inglewood hosts the FIFA World Cup and Group G opens with Iran facing New Zealand in a match that carries the weight of two very different football stories. For New Zealand\, this is history unfolding in real time — the All Whites have qualified for just their third World Cup ever\, and every touch of the ball represents decades of Pacific football ambition finally given a global stage. For Iran\, whose supporters travel in staggering numbers and transform any stadium into a wall of green and red\, this is the rite of passage that repeats every four years but never loses its power. SoFi Stadium seats 70\,240 and the atmosphere it generates for World Cup group stage matches is unlike anything in American sports. Take the Metro Crenshaw line to Hollywood Park and arrive early — the drums\, flags\, and face paint outside the gates are half the experience. Group stage or not\, a live World Cup match at this scale stays with you. This is the 2026 FIFA World Cup\, hosted in the United States for only the second time ever — and SoFi Stadium is the showpiece venue of the entire tournament.
LOCATION:1 SoFi Stadium Dr\, Inglewood\, CA 90301
URL:https://www.falkorevents.com/eventcal/event/4816/details/
UID:event-4816@falkorevents.com
END:VEVENT
END:VCALENDAR