BEGIN:VCALENDAR
VERSION:2.0
PRODID:-//Falkor//Falkor Events//EN
CALSCALE:GREGORIAN
METHOD:PUBLISH
BEGIN:VEVENT
DTSTART:20260626T010000Z
DTEND:20260626T030000Z
SUMMARY:FIFA World Cup 2026 — Group D: Turkey vs USA at SoFi Stadium
DESCRIPTION:June 25\, 2026 is circled on every American soccer fan's calendar — the United States Men's National Team faces Turkey at SoFi Stadium in Inglewood\, and the stakes could not be higher in Group D. The USMNT arrives in 2026 with a generation that grew up on MLS\, developed in European academies\, and carries the confidence of a squad more technically complete than any in American soccer history. Turkey\, a perennial European qualifier with a disciplined tactical identity and one of the most passionate diaspora fan bases in the world\, provides a test that will reveal exactly who this team is under championship-level pressure. SoFi's 70\,000-seat bowl fills differently for USMNT matches — louder than an NFL game\, more diverse\, the crowd a patchwork of dual-loyalty supporters who will disagree on nearly everything until the final whistle. Southern California's soccer community — the largest and most diverse in North America — has been waiting for a USMNT World Cup home match for a generation. The 2026 FIFA World Cup is hosted in the US for the first time since 1994. On June 25\, with a spot in the Round of 16 potentially on the line\, SoFi becomes the most important stadium in the country.
LOCATION:1 SoFi Stadium Dr\, Inglewood\, CA 90301
URL:https://www.falkorevents.com/eventcal/event/4817/details/
UID:event-4817@falkorevents.com
END:VEVENT
END:VCALENDAR