BEGIN:VCALENDAR
VERSION:2.0
PRODID:-//Falkor//Falkor Events//EN
CALSCALE:GREGORIAN
METHOD:PUBLISH
BEGIN:VEVENT
DTSTART:20260629T010000Z
DTEND:20260629T030000Z
SUMMARY:FIFA World Cup 2026 — Round of 16 at SoFi Stadium (June 28)
DESCRIPTION:The knockout stage of the 2026 FIFA World Cup arrives at SoFi Stadium on June 28\, and the margin for error disappears completely. A single goal at the wrong moment\, a red card\, a penalty sequence at the death — the Round of 16 turns on chance as often as it turns on quality\, and that absolute instability is what makes it the most emotionally violent 90 minutes in sport. The specific teams on the field will be determined by how the group stage resolves\, but the atmosphere inside SoFi will be identical regardless: 70\,000 people standing for a full half\, the volume rising with every shot\, and the particular silence that descends when a penalty kick is announced. SoFi Stadium was designed for exactly this kind of spectacle — the sight lines are intimate for a stadium its size\, the retractable roof contains the sound\, and the field-level seats place you close enough to see the goalkeeper's face before a penalty. In the Round of 16\, every match ends someone's World Cup. At SoFi on June 28\, you are exactly where it happens.
LOCATION:1 SoFi Stadium Dr\, Inglewood\, CA 90301
URL:https://www.falkorevents.com/eventcal/event/4818/details/
UID:event-4818@falkorevents.com
END:VEVENT
END:VCALENDAR