BEGIN:VCALENDAR
VERSION:2.0
PRODID:-//Falkor//Falkor Events//EN
CALSCALE:GREGORIAN
METHOD:PUBLISH
BEGIN:VEVENT
DTSTART:20260711T010000Z
DTEND:20260711T030000Z
SUMMARY:FIFA World Cup 2026 — Quarterfinal at SoFi Stadium (July 10)
DESCRIPTION:The 2026 FIFA World Cup Quarterfinal at SoFi Stadium on July 10 is\, by any honest accounting\, one of the most significant sporting events in Southern California history. By the quarterfinal stage\, the tournament's narratives are fully formed: the team that was not supposed to survive the knockout rounds\, the player who arrived carrying a country's expectations and delivered\, the rivalry activated by a bracket that had no mercy. Eight teams remain in the entire world. Four go home this weekend. The stakes are absolute. SoFi Stadium with its rolling roof and its sight lines that put 70\,000 people in intimate proximity to the pitch was built for exactly this kind of moment — and the FIFA World Cup\, held in the United States for only the second time ever\, will not return to this venue for decades. Southern California's soccer community\, the most diverse in North America and stretching from Inglewood through Long Beach and deep into the Inland Empire\, has been building toward July 2026 since the Host City announcement. The quarterfinals are when that anticipation finally cashes out in 90 minutes.
LOCATION:1 SoFi Stadium Dr\, Inglewood\, CA 90301
URL:https://www.falkorevents.com/eventcal/event/4820/details/
UID:event-4820@falkorevents.com
END:VEVENT
END:VCALENDAR