BEGIN:VCALENDAR
VERSION:2.0
PRODID:-//Falkor//Falkor Events//EN
CALSCALE:GREGORIAN
METHOD:PUBLISH
BEGIN:VEVENT
DTSTART:20260503T023000Z
DTEND:20260503T043000Z
SUMMARY:LA Galaxy vs Vancouver Whitecaps at Dignity Health Sports Park
DESCRIPTION:There is a specific quality to early-season Galaxy home matches at Dignity Health Sports Park in Carson that late-season play cannot replicate — the table is still wide open\, every point carries outsized weight\, and the crowd arrives with the particular energy of people who spent the offseason waiting. On May 2\, the Galaxy open their home stretch against Vancouver Whitecaps\, a Pacific Northwest club with a well-organized style and a loyal away section that will make noise. But Dignity Health Sports Park has a way of absorbing visiting energy and converting it: the sightlines are intimate for a professional soccer stadium\, the pitch is fast\, and the home supporters close enough to the touchline that they are felt by the players. The Galaxy spent this offseason with intentions — this is a club that believes it can win MLS Cup and will play with that conviction from the opening whistle of every home match. Southern California soccer has been ascending for a decade\, and the Galaxy are still its marquee attraction. Arrive at dusk. Watch the sky over Carson go dark while the stadium lights take over. There are worse ways to spend a Saturday.
LOCATION:18400 Avalon Blvd\, Carson\, CA 90746
URL:https://www.falkorevents.com/eventcal/event/4821/details/
UID:event-4821@falkorevents.com
END:VEVENT
END:VCALENDAR