BEGIN:VCALENDAR
VERSION:2.0
PRODID:-//Falkor//Falkor Events//EN
CALSCALE:GREGORIAN
METHOD:PUBLISH
BEGIN:VEVENT
DTSTART:20260723T023000Z
DTEND:20260723T043000Z
SUMMARY:LA Galaxy vs St. Louis City SC at Dignity Health Sports Park
DESCRIPTION:July 22 brings the LA Galaxy home to Dignity Health Sports Park in Carson for a midseason test against St. Louis City SC\, the expansion club that announced itself immediately and has become one of the more compelling teams in the Western Conference. By late July\, the MLS playoff picture is taking shape — every match carries real consequence. The Galaxy have the talent to be involved deep in the postseason conversation\, and a home victory here sharpens the margin. Dignity Health Sports Park on a summer evening is one of the better live sports experiences in Southern California: the weather\, the speed of play on the fast pitch\, the supporter culture that has matured into something genuinely distinct from any other MLS market. St. Louis travels well and will bring a visible road contingent\, but Carson is Galaxy territory\, and the home crowd knows it. This is the stretch of the season where rosters are tested\, character is revealed\, and the teams worth following separate from the teams that simply show up. The Galaxy have shown they can be worth following.
LOCATION:18400 Avalon Blvd\, Carson\, CA 90746
URL:https://www.falkorevents.com/eventcal/event/4822/details/
UID:event-4822@falkorevents.com
END:VEVENT
END:VCALENDAR