BEGIN:VCALENDAR
VERSION:2.0
PRODID:-//Falkor//Falkor Events//EN
CALSCALE:GREGORIAN
METHOD:PUBLISH
BEGIN:VEVENT
DTSTART:20260802T023000Z
DTEND:20260802T043000Z
SUMMARY:LA Galaxy vs FC Dallas at Dignity Health Sports Park
DESCRIPTION:The LA Galaxy host FC Dallas on August 1 at Dignity Health Sports Park\, and by early August the Western Conference playoff race is no longer hypothetical — it is live\, with points separating genuine contenders from the field. FC Dallas is a well-coached side that creates problems for every team they face\, and the Galaxy will need to be at their best. Dignity Health Sports Park in Carson holds approximately 27\,000 for major MLS fixtures\, and summer Saturday matches under the lights draw the kind of crowd that makes the stadium feel urgent. The Galaxy's core has been together long enough to understand these moments — the home run in the summer heat\, the three points that put distance between yourself and the rest of the conference. There is no neutral territory in a late-summer MLS home match. The Galaxy know how to win here\, and the crowd knows the difference between a team that is playing for something and a team that is merely competing. On August 1\, they are playing for something.
LOCATION:18400 Avalon Blvd\, Carson\, CA 90746
URL:https://www.falkorevents.com/eventcal/event/4823/details/
UID:event-4823@falkorevents.com
END:VEVENT
END:VCALENDAR