BEGIN:VCALENDAR
VERSION:2.0
PRODID:-//Falkor//Falkor Events//EN
CALSCALE:GREGORIAN
METHOD:PUBLISH
BEGIN:VEVENT
DTSTART:20260820T023000Z
DTEND:20260820T043000Z
SUMMARY:LA Galaxy vs San Jose Earthquakes at Dignity Health Sports Park
DESCRIPTION:The California Clasico. The oldest rivalry in MLS comes home to Dignity Health Sports Park in Carson on August 19\, when the LA Galaxy host the San Jose Earthquakes in the match that has defined California professional soccer since 1996. Thirty years of shared history — championship defeats\, playoff eliminations\, career-defining individual performances\, and the kind of institutional memory that means even neutral fans understand this one is different. The Earthquakes travel south with one of the more passionate away followings in MLS\, and the Galaxy's home support answers in kind. Galaxy vs Earthquakes at Carson does not need extra context. It has its own gravity. These two clubs are the original MLS rivalry\, and every season's installment adds another chapter to a story that neither fan base will ever stop caring about. Buy your ticket early — the California Clasico at Dignity Health Sports Park draws capacity\, and a seat in the supporters' end is the kind of live sports experience that reminds you why you bother showing up in person.
LOCATION:18400 Avalon Blvd\, Carson\, CA 90746
URL:https://www.falkorevents.com/eventcal/event/4824/details/
UID:event-4824@falkorevents.com
END:VEVENT
END:VCALENDAR