BEGIN:VCALENDAR
VERSION:2.0
PRODID:-//Falkor//Falkor Events//EN
CALSCALE:GREGORIAN
METHOD:PUBLISH
BEGIN:VEVENT
DTSTART:20260906T023000Z
DTEND:20260906T043000Z
SUMMARY:LA Galaxy vs New England Revolution at Dignity Health Sports Park
DESCRIPTION:The LA Galaxy host the New England Revolution at Dignity Health Sports Park on September 5 as the playoff sprint approaches its final weeks. By Labor Day weekend\, MLS standings have sorted themselves into something close to final shape — the teams in contention know who they are\, and the teams out of it are already playing for seeding and pride. The Galaxy\, as a legitimate Western Conference title contender\, treat every home match in September as a playoff match in practice. New England arrives as one of the East's most tactically organized sides\, making this a genuine midfield chess match on a pitch that rewards technical quality. Dignity Health Sports Park on a September evening carries a different atmosphere than summer — the urgency is higher\, the stakes more visible on the scoreboard\, the crowd's understanding of the moment sharper. This is the Galaxy at their best version of themselves: playing at home\, with something to prove\, in front of the fan base that helped build MLS into what it is.
LOCATION:18400 Avalon Blvd\, Carson\, CA 90746
URL:https://www.falkorevents.com/eventcal/event/4825/details/
UID:event-4825@falkorevents.com
END:VEVENT
END:VCALENDAR