BEGIN:VCALENDAR
VERSION:2.0
PRODID:-//Falkor//Falkor Events//EN
CALSCALE:GREGORIAN
METHOD:PUBLISH
BEGIN:VEVENT
DTSTART:20260913T023000Z
DTEND:20260913T043000Z
SUMMARY:LA Galaxy vs Seattle Sounders at Dignity Health Sports Park
DESCRIPTION:The Pacific Coast rivalry. LA Galaxy host the Seattle Sounders at Dignity Health Sports Park on September 12\, and this is one of those Western Conference fixtures that defines playoff seeding. The Sounders are perennial contenders — the most successful club in MLS history by most measures\, a team that has appeared in MLS Cup more times than any other. The Galaxy know what it means to beat Seattle in the back half of the season: it sends a message to the conference that is louder than any point total. Dignity Health Sports Park on a mid-September evening\, with the playoff picture crystallizing\, has an energy that belongs to a different register than any summer match. The crowd is quieter before kickoff and louder during it — the collective understanding that each of these last home matches matters raises the attention level in the stadium. The Galaxy vs Sounders has been one of the defining matchups of the MLS era. On September 12\, another chapter gets written in Carson.
LOCATION:18400 Avalon Blvd\, Carson\, CA 90746
URL:https://www.falkorevents.com/eventcal/event/4826/details/
UID:event-4826@falkorevents.com
END:VEVENT
END:VCALENDAR