BEGIN:VCALENDAR
VERSION:2.0
PRODID:-//Falkor//Falkor Events//EN
CALSCALE:GREGORIAN
METHOD:PUBLISH
BEGIN:VEVENT
DTSTART:20260927T023000Z
DTEND:20260927T043000Z
SUMMARY:LA Galaxy vs Colorado Rapids at Dignity Health Sports Park
DESCRIPTION:The LA Galaxy host Colorado Rapids at Dignity Health Sports Park in Carson on September 26 — a late-season home match with real playoff implications on both sides. Colorado has quietly become one of the Western Conference's more consistent performers\, and by the last weekend of September\, a point separates conference positions in ways that matter for seeding\, first-round byes\, and the draw. Galaxy supporters pack Dignity Health Sports Park for these September Saturday matches with the particular intensity of people who understand exactly what is at stake. The atmosphere inside the stadium in the last weeks of the regular season is different from any other time of year — sharper\, more focused\, the crowd reading the clock more carefully. For a fan base that has watched this club win five MLS Cups\, the expectation in September is not just to compete but to close. Three points on September 26 keep that possibility alive.
LOCATION:18400 Avalon Blvd\, Carson\, CA 90746
URL:https://www.falkorevents.com/eventcal/event/4827/details/
UID:event-4827@falkorevents.com
END:VEVENT
END:VCALENDAR