BEGIN:VCALENDAR
VERSION:2.0
PRODID:-//Falkor//Falkor Events//EN
CALSCALE:GREGORIAN
METHOD:PUBLISH
BEGIN:VEVENT
DTSTART:20261015T023000Z
DTEND:20261015T043000Z
SUMMARY:LA Galaxy vs Portland Timbers at Dignity Health Sports Park
DESCRIPTION:LA Galaxy host the Portland Timbers at Dignity Health Sports Park in Carson on October 14\, as the regular season moves into its final countdown. Portland's Timbers Army is one of the most identifiable supporter cultures in North American sports — they travel\, they are loud\, and they create a visible challenge for any home team's crowd. The Galaxy faithful know what to do with a visiting section: answer it for 90 minutes. Dignity Health Sports Park in October carries a specific October-of-a-soccer-season quality: the grass is worn from the summer\, the evenings have cooled slightly\, and the standings page is checked before and after every result. Galaxy vs Timbers in the back half of October has been a fixture worth watching for twenty years. Both clubs understand what the other represents. Both arrived in MLS early and helped build what the league has become. On October 14 in Carson\, under the lights\, they settle it on the pitch.
LOCATION:18400 Avalon Blvd\, Carson\, CA 90746
URL:https://www.falkorevents.com/eventcal/event/4828/details/
UID:event-4828@falkorevents.com
END:VEVENT
END:VCALENDAR