BEGIN:VCALENDAR
VERSION:2.0
PRODID:-//Falkor//Falkor Events//EN
CALSCALE:GREGORIAN
METHOD:PUBLISH
BEGIN:VEVENT
DTSTART:20261018T023000Z
DTEND:20261018T043000Z
SUMMARY:El Trafico: LA Galaxy vs San Diego FC at Dignity Health Sports Park
DESCRIPTION:On October 17\, Dignity Health Sports Park in Carson hosts one of the newest and most charged rivalries in MLS — the LA Galaxy against San Diego FC in what the league has already begun calling the SoCal Derby. This is a rivalry born of geography and ambition: two Southern California clubs\, separated by 120 miles of coast\, competing for the identity of the region's dominant soccer club. San Diego FC arrived in MLS 2025 as an expansion side with immediate quality and a city behind them. The Galaxy have five MLS Cups and thirty years of institutional history. The first SoCal Derby matches at Dignity Health Sports Park have already established the tone — physical\, fast\, and contested in a way that tells you both fan bases understand exactly what losing means. Carson gets loud for El Trafico. The Galaxy's home supporters know the stakes\, and the traveling San Diego contingent arrives with something to prove in enemy territory. This is the Southern California soccer rivalry built to outlast all of them.
LOCATION:18400 Avalon Blvd\, Carson\, CA 90746
URL:https://www.falkorevents.com/eventcal/event/4829/details/
UID:event-4829@falkorevents.com
END:VEVENT
END:VCALENDAR