BEGIN:VCALENDAR
VERSION:2.0
PRODID:-//Falkor//Falkor Events//EN
CALSCALE:GREGORIAN
METHOD:PUBLISH
BEGIN:VEVENT
DTSTART:20261101T023000Z
DTEND:20261101T043000Z
SUMMARY:LA Galaxy vs Austin FC at Dignity Health Sports Park
DESCRIPTION:October 31 brings the LA Galaxy home to Dignity Health Sports Park for the final stretch of the regular season against Austin FC — a club that has grown into one of the Western Conference's most complete teams since joining MLS. By Halloween weekend\, the playoff picture is effectively locked and the final positions are being fought for with the intensity of teams who know a single place in the bracket means the difference between a home game and a road trip in the postseason. Galaxy vs Austin at Carson on October 31 carries the energy of a season that is minutes from its conclusion — every chance\, every counter\, every set piece watched with the scrutiny of fans who have done this long enough to know that late-season home matches define what comes next. The Galaxy's home record over the years is a point of pride. Finishing the regular season with a win at Dignity Health Sports Park is how you enter the playoffs with momentum.
LOCATION:18400 Avalon Blvd\, Carson\, CA 90746
URL:https://www.falkorevents.com/eventcal/event/4830/details/
UID:event-4830@falkorevents.com
END:VEVENT
END:VCALENDAR