BEGIN:VCALENDAR
VERSION:2.0
PRODID:-//Falkor//Falkor Events//EN
CALSCALE:GREGORIAN
METHOD:PUBLISH
BEGIN:VEVENT
DTSTART:20260514T023000Z
DTEND:20260514T043000Z
SUMMARY:San Diego FC vs Austin FC at Snapdragon Stadium
DESCRIPTION:San Diego FC host Austin FC at Snapdragon Stadium on May 13 — the club's first full MLS season underway and Snapdragon's Mission Valley bowl already establishing itself as one of the league's better atmospheres for a home match. San Diego FC arrived in 2025 with a mission and an identity that felt fully formed from the start: a club built for San Diego's personality — irreverent\, passionate\, coastal\, and entirely serious about winning. Austin FC is the kind of opponent that brings out the best in home crowds\, a well-supported club with an organized press and genuine quality throughout. May in San Diego means perfect soccer weather — the marine layer gone by evening\, the Snapdragon bowl holding the noise from a sold-out lower deck\, the Mission Hills skyline catching the last light behind the east stand. San Diego has been waiting for a top-flight professional soccer team for decades. Snapdragon on a mid-May evening\, with the Western Conference table still forming\, is exactly what that wait was for.
LOCATION:9449 Friars Rd\, San Diego\, CA 92108
URL:https://www.falkorevents.com/eventcal/event/4831/details/
UID:event-4831@falkorevents.com
END:VEVENT
END:VCALENDAR