BEGIN:VCALENDAR
VERSION:2.0
PRODID:-//Falkor//Falkor Events//EN
CALSCALE:GREGORIAN
METHOD:PUBLISH
BEGIN:VEVENT
DTSTART:20260517T023000Z
DTEND:20260517T043000Z
SUMMARY:San Diego FC vs FC Cincinnati at Snapdragon Stadium
DESCRIPTION:San Diego FC welcome FC Cincinnati to Snapdragon Stadium on May 16 — an Eastern Conference visitor who carries genuine silverware ambitions and a well-organized identity. These midweek MLS home matches carry a particular energy: weeknight kickoffs at Snapdragon draw a crowd that knows where they want to be on a Friday evening\, and they arrive ready. FC Cincinnati has grown into one of the league's most interesting clubs\, with a supporter culture that travels and creates noise in every away stadium they visit. San Diego answers in kind — the rooftop terrace\, the east lower bowl\, the northwest corner where the most vocal home support congregates. San Diego FC are in their second year\, which means the first novelty has settled and the real work of building a club identity is underway. The fans who showed up in year one now understand what game weeks look like here. May 16 at Snapdragon is a Friday evening in San Diego spent exactly as it should be.
LOCATION:9449 Friars Rd\, San Diego\, CA 92108
URL:https://www.falkorevents.com/eventcal/event/4832/details/
UID:event-4832@falkorevents.com
END:VEVENT
END:VCALENDAR