BEGIN:VCALENDAR
VERSION:2.0
PRODID:-//Falkor//Falkor Events//EN
CALSCALE:GREGORIAN
METHOD:PUBLISH
BEGIN:VEVENT
DTSTART:20260524T023000Z
DTEND:20260524T043000Z
SUMMARY:San Diego FC vs Vancouver Whitecaps at Snapdragon Stadium
DESCRIPTION:On May 23\, San Diego FC host the Vancouver Whitecaps at Snapdragon Stadium in a Western Conference matchup with real table implications. The Whitecaps\, a Pacific Northwest club with a history in MLS that stretches back to the league's founding\, play a technically demanding style that tests the best home sides in the conference. Snapdragon Stadium holds 35\,000 and\, on nights like this\, the atmosphere in the lower bowl amplifies what a young fan base can generate when they are invested. San Diego FC's season through May has been a referendum on whether the ambitions they arrived with were credible — and by the time Vancouver comes to Mission Valley on a Saturday\, the answer is beginning to take shape. The Pacific Coast stretch of the Western Conference schedule is decided in these late-spring home matches. San Diego FC playing at Snapdragon under the warm May sky is\, by any fair assessment\, one of the better evenings professional soccer offers in Southern California.
LOCATION:9449 Friars Rd\, San Diego\, CA 92108
URL:https://www.falkorevents.com/eventcal/event/4833/details/
UID:event-4833@falkorevents.com
END:VEVENT
END:VCALENDAR