BEGIN:VCALENDAR
VERSION:2.0
PRODID:-//Falkor//Falkor Events//EN
CALSCALE:GREGORIAN
METHOD:PUBLISH
BEGIN:VEVENT
DTSTART:20260726T023000Z
DTEND:20260726T043000Z
SUMMARY:San Diego FC vs FC Dallas at Snapdragon Stadium
DESCRIPTION:San Diego FC return to Snapdragon Stadium on July 25 for a summer home match against FC Dallas — a club from the Western Conference's most competitive section that brings organization\, tactical discipline\, and an away section that makes noise. July in Mission Valley means a warm evening with the marine layer absent and the Snapdragon bowl holding heat and sound in equal measure. By late July\, the MLS season is past its midpoint\, the conference table is clarifying\, and every home result carries real weight in the playoff race. San Diego FC in their second season have the roster depth to push deep into the Western Conference standings\, and their home record at Snapdragon is part of what makes that possible — the crowd on Fridays and Saturdays in San Diego creates an environment that neutralizes visiting sides and energizes the home eleven. FC Dallas will arrive organized and dangerous. San Diego FC will need to be better. And the 35\,000 at Snapdragon will make that easier.
LOCATION:9449 Friars Rd\, San Diego\, CA 92108
URL:https://www.falkorevents.com/eventcal/event/4834/details/
UID:event-4834@falkorevents.com
END:VEVENT
END:VCALENDAR