BEGIN:VCALENDAR
VERSION:2.0
PRODID:-//Falkor//Falkor Events//EN
CALSCALE:GREGORIAN
METHOD:PUBLISH
BEGIN:VEVENT
DTSTART:20260823T023000Z
DTEND:20260823T043000Z
SUMMARY:San Diego FC vs Colorado Rapids at Snapdragon Stadium
DESCRIPTION:The Western Conference race sharpens in late August when San Diego FC host the Colorado Rapids at Snapdragon Stadium on August 22. By this point in the MLS calendar\, the teams that are going to make the playoffs know who they are and the teams on the edge know that every point is existential. Colorado is a consistent performer in the West — tactically organized\, defensively solid\, and capable of shutting down home sides on the road. San Diego FC\, at Snapdragon in August\, have every advantage: familiar pitch\, home crowd\, the support of a city that has put itself fully behind this club. What makes Snapdragon unusual as MLS venues go is the intimacy of the lower deck — 35\,000 feels smaller because of how the bowl wraps the field\, and the noise from the home support arrives as something tangible rather than ambient. August 22 in Mission Valley is a late-summer match in the middle of a playoff race. Those are the ones that matter most.
LOCATION:9449 Friars Rd\, San Diego\, CA 92108
URL:https://www.falkorevents.com/eventcal/event/4835/details/
UID:event-4835@falkorevents.com
END:VEVENT
END:VCALENDAR