BEGIN:VCALENDAR
VERSION:2.0
PRODID:-//Falkor//Falkor Events//EN
CALSCALE:GREGORIAN
METHOD:PUBLISH
BEGIN:VEVENT
DTSTART:20260830T023000Z
DTEND:20260830T043000Z
SUMMARY:SoCal Derby: San Diego FC vs LA Galaxy at Snapdragon Stadium
DESCRIPTION:On August 29\, Snapdragon Stadium hosts the SoCal Derby — San Diego FC against the LA Galaxy in the rivalry that Southern California soccer has been waiting years to have. Two clubs\, 120 miles of coastline between them\, and a genuine competition for what it means to be the region's dominant club. The Galaxy bring five MLS Cups and thirty years of institutional authority. San Diego FC bring a city that has waited its entire sports life for a team like this and a squad that has made clear it is not content to be the junior partner. The first SoCal Derby matches at Snapdragon have already shown what this rivalry is capable of: physical\, fast\, hostile in the best possible sense\, and decided by the kind of moments that get discussed for weeks afterward. The home crowd at Snapdragon for this match is the loudest the stadium gets during the regular season. The traveling Galaxy section adds a counter-current the home support has to overcome. August 29 in Mission Valley is exactly the kind of match that defines a rivalry's character.
LOCATION:9449 Friars Rd\, San Diego\, CA 92108
URL:https://www.falkorevents.com/eventcal/event/4836/details/
UID:event-4836@falkorevents.com
END:VEVENT
END:VCALENDAR