BEGIN:VCALENDAR
VERSION:2.0
PRODID:-//Falkor//Falkor Events//EN
CALSCALE:GREGORIAN
METHOD:PUBLISH
BEGIN:VEVENT
DTSTART:20260910T023000Z
DTEND:20260910T043000Z
SUMMARY:San Diego FC vs San Jose Earthquakes at Snapdragon Stadium
DESCRIPTION:San Diego FC host the San Jose Earthquakes at Snapdragon Stadium on September 9 — a California intrastate match with the California-specific intensity that any pairing of state rivals generates. The Earthquakes are the original California rivalry for the Galaxy\, but for San Diego FC they represent something slightly different: a Northern California club testing itself against the state's newest top-flight team in a competitive environment that both organizations take seriously. By early September\, playoff seeding is the active conversation throughout the Western Conference\, and a home victory for San Diego FC solidifies their position in the bracket. Snapdragon Stadium on a Wednesday evening in September carries a midweek-match energy — the crowd smaller but more concentrated\, the attention sharper\, the appreciation for good football expressed in more precise terms than a Saturday sellout. San Diego FC's technical identity is built for these matches. The pitch at Snapdragon is fast and true.
LOCATION:9449 Friars Rd\, San Diego\, CA 92108
URL:https://www.falkorevents.com/eventcal/event/4837/details/
UID:event-4837@falkorevents.com
END:VEVENT
END:VCALENDAR