BEGIN:VCALENDAR
VERSION:2.0
PRODID:-//Falkor//Falkor Events//EN
CALSCALE:GREGORIAN
METHOD:PUBLISH
BEGIN:VEVENT
DTSTART:20260914T023000Z
DTEND:20260914T043000Z
SUMMARY:San Diego FC vs Philadelphia Union at Snapdragon Stadium
DESCRIPTION:September 13 brings the Philadelphia Union to Snapdragon Stadium for a cross-conference matchup that carries more weight than the standings suggest. The Union are one of MLS's most technically sophisticated clubs — a high-press\, technically demanding side that has built a playing identity few teams in the league can match over 90 minutes. For San Diego FC\, playing against a Union side at home is a benchmark — it tells you where you are relative to the best in the East. Snapdragon on a mid-September weekend evening is one of the better environments in MLS: the Mission Valley bowl under lights\, the San Diego evening cooling to exactly the right temperature for football\, and a home crowd that has grown sharper in its appreciation for the game over two seasons. This is the San Diego FC that is being built for the long term — technically demanding\, tactically mature\, and playing in a stadium that is becoming a genuine home-field advantage. Philadelphia is a serious opponent. September 13 is a serious match.
LOCATION:9449 Friars Rd\, San Diego\, CA 92108
URL:https://www.falkorevents.com/eventcal/event/4838/details/
UID:event-4838@falkorevents.com
END:VEVENT
END:VCALENDAR