BEGIN:VCALENDAR
VERSION:2.0
PRODID:-//Falkor//Falkor Events//EN
CALSCALE:GREGORIAN
METHOD:PUBLISH
BEGIN:VEVENT
DTSTART:20261015T023000Z
DTEND:20261015T043000Z
SUMMARY:San Diego FC vs Houston Dynamo at Snapdragon Stadium
DESCRIPTION:San Diego FC host Houston Dynamo at Snapdragon Stadium on October 14 as the regular season enters its final three weeks. By mid-October\, the playoff bracket is nearly set — seedings are being contested\, and a home victory separates San Diego FC from a favorable first-round draw versus a difficult road trip. Houston arrives as a Western Conference competitor that has consistently punched above its market size\, a club with genuine organization and the quality to take points from any team on the road. Snapdragon on an October Saturday evening carries the particular weight of a season approaching conclusion — the crowd more focused\, every chance examined with fresh scrutiny\, the understanding that remaining home matches are finite and each one matters. San Diego FC's home record at Snapdragon is part of what makes them a legitimate playoff threat. October 14 is a chance to strengthen it against a quality Western Conference opponent.
LOCATION:9449 Friars Rd\, San Diego\, CA 92108
URL:https://www.falkorevents.com/eventcal/event/4839/details/
UID:event-4839@falkorevents.com
END:VEVENT
END:VCALENDAR