BEGIN:VCALENDAR
VERSION:2.0
PRODID:-//Falkor//Falkor Events//EN
CALSCALE:GREGORIAN
METHOD:PUBLISH
BEGIN:VEVENT
DTSTART:20261025T023000Z
DTEND:20261025T043000Z
SUMMARY:San Diego FC vs Seattle Sounders at Snapdragon Stadium
DESCRIPTION:On October 24\, Snapdragon Stadium hosts San Diego FC against the Seattle Sounders — a Western Conference fixture between the league's most decorated club and the region's most ambitious new one. The Sounders have won MLS Cup multiple times\, appeared in the CONCACAF Champions League\, and built an institutional culture that makes them one of the standard-bearers of American professional soccer. San Diego FC are building their answer to that standard. By late October\, the regular season is effectively over and only final positions remain. Playing the Sounders at home in this moment is the kind of match that tells a club something true about itself — how it handles a capable opponent under pressure\, with the season's final chapter being written. Snapdragon in October at night is Mission Valley at its best: the marine layer gone\, the temperature perfect\, the bowl lit up and full of a crowd that knows exactly what is at stake. This is San Diego FC football in the month that defines the year.
LOCATION:9449 Friars Rd\, San Diego\, CA 92108
URL:https://www.falkorevents.com/eventcal/event/4840/details/
UID:event-4840@falkorevents.com
END:VEVENT
END:VCALENDAR