BEGIN:VCALENDAR
VERSION:2.0
PRODID:-//Falkor//Falkor Events//EN
CALSCALE:GREGORIAN
METHOD:PUBLISH
BEGIN:VEVENT
DTSTART:20261108T033000Z
DTEND:20261108T053000Z
SUMMARY:San Diego FC vs Sporting Kansas City at Snapdragon Stadium
DESCRIPTION:The MLS regular season closes at Snapdragon Stadium on November 7 when San Diego FC host Sporting Kansas City in the final home match of the 2026 campaign. By the first weekend of November\, the Western Conference bracket is locked and what remains is the last opportunity for home supporters to see their club before the playoff journey begins. Sporting KC\, one of MLS's most historically significant clubs\, arrives as a regular-season opponent with their own playoff aspirations intact or already resolved. But the narrative at Snapdragon belongs to San Diego FC: the close of a second season\, a city that committed to this club from the first match\, and a group of players who have spent 34 home and away matches building toward the postseason. The last regular-season home match at any club carries a specific weight — finality mixed with anticipation\, the regular season exhaust cleared to reveal what the real season has been preparing for. November 7 at Snapdragon is the goodbye before the real thing begins.
LOCATION:9449 Friars Rd\, San Diego\, CA 92108
URL:https://www.falkorevents.com/eventcal/event/4841/details/
UID:event-4841@falkorevents.com
END:VEVENT
END:VCALENDAR