BEGIN:VCALENDAR
VERSION:2.0
PRODID:-//Falkor//Falkor Events//EN
CALSCALE:GREGORIAN
METHOD:PUBLISH
BEGIN:VEVENT
DTSTART:20260511T023000Z
DTEND:20260511T043000Z
SUMMARY:LAFC vs Houston Dynamo at BMO Stadium
DESCRIPTION:BMO Stadium in South Los Angeles opens its 2026 summer stretch on May 10 when LAFC host the Houston Dynamo — a Western Conference match with genuine playoff implications from this early in the campaign. LAFC's BMO Stadium is one of the best soccer-specific venues in North America: the bowl is tight\, the sightlines are exceptional\, and the 3252 supporter section in the north end creates an atmosphere that ranks with anything in MLS. Houston Dynamo are a competitive Western Conference club that tests every home side through the press and transition phases of the game — the kind of opponent that forces LAFC to be at their organized best. May in Los Angeles means perfect football weather\, and a Saturday evening at BMO under the lights with the downtown skyline visible beyond the south stand is the kind of sports evening that justifies driving in from wherever you are. LAFC have been a Western Conference title contender since their founding. On May 10\, that ambition begins again in earnest.
LOCATION:3939 S Figueroa St\, Los Angeles\, CA 90037
URL:https://www.falkorevents.com/eventcal/event/4842/details/
UID:event-4842@falkorevents.com
END:VEVENT
END:VCALENDAR