BEGIN:VCALENDAR
VERSION:2.0
PRODID:-//Falkor//Falkor Events//EN
CALSCALE:GREGORIAN
METHOD:PUBLISH
BEGIN:VEVENT
DTSTART:20260525T023000Z
DTEND:20260525T043000Z
SUMMARY:LAFC vs Seattle Sounders at BMO Stadium
DESCRIPTION:The Western Conference's most compelling rivalry returns to BMO Stadium on May 24 when LAFC host the Seattle Sounders in a match that has defined MLS's ambitions for half a decade. The Sounders have won everything the league has to offer. LAFC arrived in 2018 and immediately contested that supremacy. Their head-to-head record is among the most closely contested and tactically interesting in American professional soccer — two clubs built on genuine quality\, genuine supporter culture\, and a genuine desire to be what the other is. BMO Stadium on a late-May Saturday\, the 3252 against a Seattle contingent that always travels\, is one of the live sports experiences worth making a specific trip to Los Angeles for. LAFC vs Sounders at BMO is the matchup that makes neutral observers buy tickets just to be present for whatever happens. There will be moments worth describing for years afterward.
LOCATION:3939 S Figueroa St\, Los Angeles\, CA 90037
URL:https://www.falkorevents.com/eventcal/event/4843/details/
UID:event-4843@falkorevents.com
END:VEVENT
END:VCALENDAR