BEGIN:VCALENDAR
VERSION:2.0
PRODID:-//Falkor//Falkor Events//EN
CALSCALE:GREGORIAN
METHOD:PUBLISH
BEGIN:VEVENT
DTSTART:20260723T023000Z
DTEND:20260723T043000Z
SUMMARY:LAFC vs Real Salt Lake at BMO Stadium
DESCRIPTION:LAFC return to BMO Stadium on July 22 for a summer home match against Real Salt Lake — a Western Conference side that has consistently challenged expectations and created problems for every team in the bracket. RSL plays a high-intensity style and travels with an organized away section that challenges home atmospheres. BMO Stadium's 3252 answer every challenge from visiting supporters with more volume\, and a midseason home match at BMO on a summer Wednesday creates the specific energy that LAFC was built to generate. By late July\, LAFC knows exactly where it stands in the conference race — what it needs\, what it must defend\, and which remaining home matches matter most. Against RSL at BMO\, on a warm July evening in South Los Angeles\, the answer is: this one. LAFC's home record at BMO is a genuine competitive advantage. July 22 is when they use it.
LOCATION:3939 S Figueroa St\, Los Angeles\, CA 90037
URL:https://www.falkorevents.com/eventcal/event/4844/details/
UID:event-4844@falkorevents.com
END:VEVENT
END:VCALENDAR